BEGIN:VCALENDAR
VERSION:2.0
PRODID:-//Deborah Praying Women Ministry - ECPv6.15.11//NONSGML v1.0//EN
CALSCALE:GREGORIAN
METHOD:PUBLISH
X-ORIGINAL-URL:https://deborahprayingwomen.com
X-WR-CALDESC:Events for Deborah Praying Women Ministry
REFRESH-INTERVAL;VALUE=DURATION:PT1H
X-Robots-Tag:noindex
X-PUBLISHED-TTL:PT1H
BEGIN:VTIMEZONE
TZID:Africa/Lagos
BEGIN:STANDARD
TZOFFSETFROM:+0100
TZOFFSETTO:+0100
TZNAME:WAT
DTSTART:20240101T000000
END:STANDARD
END:VTIMEZONE
BEGIN:VEVENT
DTSTART;TZID=Africa/Lagos:20251016T180000
DTEND;TZID=Africa/Lagos:20251016T180000
DTSTAMP:20260420T171429
CREATED:20251009T052003Z
LAST-MODIFIED:20251009T091134Z
UID:10001910-1760637600-1760637600@deborahprayingwomen.com
SUMMARY:Thursday Fellowship
DESCRIPTION:Deborah Praying Women Thursday Fellowship is a weekly gathering of women dedicated to seeking God’s presence through heartfelt prayer\, worship\, and the Word. Inspired by the biblical Deborah\, the fellowship empowers women to grow spiritually\, intercede for families\, communities\, and nations\, and stand strong in faith.
URL:https://deborahprayingwomen.com/event/fellowship/2025-10-16/
CATEGORIES:Virtual Events
ATTACH;FMTTYPE=image/jpeg:https://deborahprayingwomen.com/wp-content/uploads/2025/10/fellowship.jpg
LOCATION:https://us04web.zoom.us/j/8827298790?pwd=RTnffXsv0zWZqenrD0zZweTiOz1-xD.1
END:VEVENT
BEGIN:VEVENT
DTSTART;TZID=Africa/Lagos:20251016T070000
DTEND;TZID=Africa/Lagos:20251016T070000
DTSTAMP:20260420T171429
CREATED:20251009T042817Z
LAST-MODIFIED:20251009T091146Z
UID:10001312-1760598000-1760598000@deborahprayingwomen.com
SUMMARY:Thursday Morning Cry
DESCRIPTION:Inspired by the spirit of Deborah\, it’s a time to lift burdens\, decree victory\, and align destinies with God’s purpose. Each Thursday morning\, women unite in faith to cry out for personal\, family\, and national transformation.
URL:https://deborahprayingwomen.com/event/thursday-morning-cry/2025-10-16/
CATEGORIES:Virtual Events
ATTACH;FMTTYPE=image/jpeg:https://deborahprayingwomen.com/wp-content/uploads/2025/10/praying.jpg
LOCATION:https://us04web.zoom.us/j/8827298790?pwd=RTnffXsv0zWZqenrD0zZweTiOz1-xD.1
END:VEVENT
BEGIN:VEVENT
DTSTART;TZID=Africa/Lagos:20251015T210000
DTEND;TZID=Africa/Lagos:20251015T210000
DTSTAMP:20260420T171429
CREATED:20251009T045935Z
LAST-MODIFIED:20251009T091157Z
UID:10003210-1760562000-1760562000@deborahprayingwomen.com
SUMMARY:Wednesday Prayer Meeting
DESCRIPTION:Wednesday Prayer Meeting is a weekly gathering of women passionate about seeking God’s face\, interceding for families\, communities\, and nations. It’s a time of heartfelt worship\, fervent prayer\, and encouragement
URL:https://deborahprayingwomen.com/event/wednesday-prayer-meeting/2025-10-15/
CATEGORIES:Virtual Events
ATTACH;FMTTYPE=image/jpeg:https://deborahprayingwomen.com/wp-content/uploads/2025/10/wednesday-prayer.jpg
LOCATION:https://us04web.zoom.us/j/8827298790?pwd=RTnffXsv0zWZqenrD0zZweTiOz1-xD.1
END:VEVENT
END:VCALENDAR